BEGIN:VCALENDAR
VERSION:2.0
PRODID:-//Holy Cross Coptic Orthodox Church - ECPv6.15.3//NONSGML v1.0//EN
CALSCALE:GREGORIAN
METHOD:PUBLISH
X-WR-CALNAME:Holy Cross Coptic Orthodox Church
X-ORIGINAL-URL:https://holycrosscoc.com
X-WR-CALDESC:Events for Holy Cross Coptic Orthodox Church
REFRESH-INTERVAL;VALUE=DURATION:PT1H
X-Robots-Tag:noindex
X-PUBLISHED-TTL:PT1H
BEGIN:VTIMEZONE
TZID:America/Los_Angeles
BEGIN:DAYLIGHT
TZOFFSETFROM:-0800
TZOFFSETTO:-0700
TZNAME:PDT
DTSTART:20250309T100000
END:DAYLIGHT
BEGIN:STANDARD
TZOFFSETFROM:-0700
TZOFFSETTO:-0800
TZNAME:PST
DTSTART:20251102T090000
END:STANDARD
END:VTIMEZONE
BEGIN:VEVENT
DTSTART;TZID=America/Los_Angeles:20250402T150000
DTEND;TZID=America/Los_Angeles:20250402T180000
DTSTAMP:20260425T033953
CREATED:20250327T192528Z
LAST-MODIFIED:20250402T205952Z
UID:3808-1743606000-1743616800@holycrosscoc.com
SUMMARY:Liturgy - 3:00pm-6:00pm
DESCRIPTION:During Lent\, Wednesday liturgy starts at 3:00pm – 6:00pm
URL:https://holycrosscoc.com/event-calendar/liturgy-300pm-600pm/
ATTACH;FMTTYPE=image/jpeg:https://holycrosscoc.com/wp-content/uploads/2023/11/IMG_7762.jpg
END:VEVENT
END:VCALENDAR