BEGIN:VCALENDAR
VERSION:2.0
PRODID:-//Holy Cross Coptic Orthodox Church - ECPv6.15.3//NONSGML v1.0//EN
CALSCALE:GREGORIAN
METHOD:PUBLISH
X-WR-CALNAME:Holy Cross Coptic Orthodox Church
X-ORIGINAL-URL:https://holycrosscoc.com
X-WR-CALDESC:Events for Holy Cross Coptic Orthodox Church
REFRESH-INTERVAL;VALUE=DURATION:PT1H
X-Robots-Tag:noindex
X-PUBLISHED-TTL:PT1H
BEGIN:VTIMEZONE
TZID:America/Los_Angeles
BEGIN:DAYLIGHT
TZOFFSETFROM:-0800
TZOFFSETTO:-0700
TZNAME:PDT
DTSTART:20260308T100000
END:DAYLIGHT
BEGIN:STANDARD
TZOFFSETFROM:-0700
TZOFFSETTO:-0800
TZNAME:PST
DTSTART:20261101T090000
END:STANDARD
END:VTIMEZONE
BEGIN:VEVENT
DTSTART;TZID=America/Los_Angeles:20260405T070000
DTEND;TZID=America/Los_Angeles:20260405T120000
DTSTAMP:20260424T083655
CREATED:20260402T131840Z
LAST-MODIFIED:20260402T131840Z
UID:4526-1775372400-1775390400@holycrosscoc.com
SUMMARY:Holy Liturgy
DESCRIPTION:Hosanna Sunday Liturgy starts @ 7:00AM
URL:https://holycrosscoc.com/event-calendar/holy-liturgy-54/
ATTACH;FMTTYPE=image/jpeg:https://holycrosscoc.com/wp-content/uploads/2023/11/IMG_7762.jpg
END:VEVENT
BEGIN:VEVENT
DTSTART;TZID=America/Los_Angeles:20260405T170000
DTEND;TZID=America/Los_Angeles:20260405T200000
DTSTAMP:20260424T083655
CREATED:20260402T132110Z
LAST-MODIFIED:20260402T132110Z
UID:4528-1775408400-1775419200@holycrosscoc.com
SUMMARY:Paskha
DESCRIPTION:Paskha @ 5:00PM
URL:https://holycrosscoc.com/event-calendar/paskha/
ATTACH;FMTTYPE=image/jpeg:https://holycrosscoc.com/wp-content/uploads/2023/10/Holy-Week.jpg
END:VEVENT
END:VCALENDAR