BEGIN:VCALENDAR
VERSION:2.0
PRODID:-//Holy Cross Coptic Orthodox Church - ECPv6.15.3//NONSGML v1.0//EN
CALSCALE:GREGORIAN
METHOD:PUBLISH
X-ORIGINAL-URL:https://holycrosscoc.com
X-WR-CALDESC:Events for Holy Cross Coptic Orthodox Church
REFRESH-INTERVAL;VALUE=DURATION:PT1H
X-Robots-Tag:noindex
X-PUBLISHED-TTL:PT1H
BEGIN:VTIMEZONE
TZID:America/Los_Angeles
BEGIN:DAYLIGHT
TZOFFSETFROM:-0800
TZOFFSETTO:-0700
TZNAME:PDT
DTSTART:20250309T100000
END:DAYLIGHT
BEGIN:STANDARD
TZOFFSETFROM:-0700
TZOFFSETTO:-0800
TZNAME:PST
DTSTART:20251102T090000
END:STANDARD
END:VTIMEZONE
BEGIN:VEVENT
DTSTART;TZID=America/Los_Angeles:20250516T080000
DTEND;TZID=America/Los_Angeles:20250516T110000
DTSTAMP:20260425T034616
CREATED:20250505T140958Z
LAST-MODIFIED:20250505T140958Z
UID:4030-1747382400-1747393200@holycrosscoc.com
SUMMARY:Holy Liturgy
DESCRIPTION:Liturgy starts @ 8:00am
URL:https://holycrosscoc.com/event-calendar/holy-liturgy-9/
ATTACH;FMTTYPE=image/jpeg:https://holycrosscoc.com/wp-content/uploads/2023/11/IMG_7762.jpg
END:VEVENT
BEGIN:VEVENT
DTSTART;TZID=America/Los_Angeles:20250517T080000
DTEND;TZID=America/Los_Angeles:20250517T170000
DTSTAMP:20260425T034616
CREATED:20250505T140101Z
LAST-MODIFIED:20250505T140101Z
UID:4013-1747468800-1747501200@holycrosscoc.com
SUMMARY:Coptic Classes and Vespers
DESCRIPTION:Coptic Class\, Hymns\, and Choir starts @ 5:00pm\nVesper starts @ 7:00pm\nPraises starts @8:00pm
URL:https://holycrosscoc.com/event-calendar/coptic-classes-and-vespers-2/
ATTACH;FMTTYPE=image/jpeg:https://holycrosscoc.com/wp-content/uploads/2025/02/cropped-church-picture.jpg
END:VEVENT
BEGIN:VEVENT
DTSTART;TZID=America/Los_Angeles:20250518T080000
DTEND;TZID=America/Los_Angeles:20250518T140000
DTSTAMP:20260425T034616
CREATED:20250505T135607Z
LAST-MODIFIED:20250505T135607Z
UID:4007-1747555200-1747576800@holycrosscoc.com
SUMMARY:Holy Liturgy
DESCRIPTION:Liturgy starts @ 8:00am\nSunday School starts @ 12:00pm
URL:https://holycrosscoc.com/event-calendar/holy-liturgy-2/
ATTACH;FMTTYPE=image/jpeg:https://holycrosscoc.com/wp-content/uploads/2023/11/IMG_7762.jpg
END:VEVENT
BEGIN:VEVENT
DTSTART;TZID=America/Los_Angeles:20250522T080000
DTEND;TZID=America/Los_Angeles:20250522T110000
DTSTAMP:20260425T034616
CREATED:20250505T140637Z
LAST-MODIFIED:20250520T133603Z
UID:4024-1747900800-1747911600@holycrosscoc.com
SUMMARY:Holy Liturgy
DESCRIPTION:Liturgy starts @ 8:00am
URL:https://holycrosscoc.com/event-calendar/holy-liturgy-6/
ATTACH;FMTTYPE=image/jpeg:https://holycrosscoc.com/wp-content/uploads/2023/11/IMG_7762.jpg
END:VEVENT
BEGIN:VEVENT
DTSTART;TZID=America/Los_Angeles:20250523T080000
DTEND;TZID=America/Los_Angeles:20250523T110000
DTSTAMP:20260425T034616
CREATED:20250505T141032Z
LAST-MODIFIED:20250505T141032Z
UID:4032-1747987200-1747998000@holycrosscoc.com
SUMMARY:Holy Liturgy
DESCRIPTION:Liturgy starts @ 8:00am
URL:https://holycrosscoc.com/event-calendar/holy-liturgy-10/
ATTACH;FMTTYPE=image/jpeg:https://holycrosscoc.com/wp-content/uploads/2023/11/IMG_7762.jpg
END:VEVENT
BEGIN:VEVENT
DTSTART;TZID=America/Los_Angeles:20250524T080000
DTEND;TZID=America/Los_Angeles:20250524T170000
DTSTAMP:20260425T034616
CREATED:20250505T140134Z
LAST-MODIFIED:20250505T140134Z
UID:4015-1748073600-1748106000@holycrosscoc.com
SUMMARY:Coptic Classes and Vespers
DESCRIPTION:Coptic Class\, Hymns\, and Choir starts @ 5:00pm\nVesper starts @ 7:00pm\nPraises starts @8:00pm
URL:https://holycrosscoc.com/event-calendar/coptic-classes-and-vespers-3/
ATTACH;FMTTYPE=image/jpeg:https://holycrosscoc.com/wp-content/uploads/2025/02/cropped-church-picture.jpg
END:VEVENT
BEGIN:VEVENT
DTSTART;TZID=America/Los_Angeles:20250525T080000
DTEND;TZID=America/Los_Angeles:20250525T140000
DTSTAMP:20260425T034616
CREATED:20250505T135638Z
LAST-MODIFIED:20250505T135638Z
UID:4009-1748160000-1748181600@holycrosscoc.com
SUMMARY:Holy Liturgy
DESCRIPTION:Liturgy starts @ 8:00am\nSunday School starts @ 12:00pm
URL:https://holycrosscoc.com/event-calendar/holy-liturgy-3/
ATTACH;FMTTYPE=image/jpeg:https://holycrosscoc.com/wp-content/uploads/2023/11/IMG_7762.jpg
END:VEVENT
BEGIN:VEVENT
DTSTART;TZID=America/Los_Angeles:20250529T080000
DTEND;TZID=America/Los_Angeles:20250529T110000
DTSTAMP:20260425T034616
CREATED:20250505T140846Z
LAST-MODIFIED:20250528T130956Z
UID:4026-1748505600-1748516400@holycrosscoc.com
SUMMARY:Holy Liturgy Feast of Ascension
DESCRIPTION:Liturgy starts @ 8:00am
URL:https://holycrosscoc.com/event-calendar/holy-liturgy-7/
ATTACH;FMTTYPE=image/jpeg:https://holycrosscoc.com/wp-content/uploads/2023/11/IMG_7762.jpg
END:VEVENT
BEGIN:VEVENT
DTSTART;TZID=America/Los_Angeles:20250530T080000
DTEND;TZID=America/Los_Angeles:20250530T110000
DTSTAMP:20260425T034616
CREATED:20250505T141114Z
LAST-MODIFIED:20250505T141114Z
UID:4034-1748592000-1748602800@holycrosscoc.com
SUMMARY:Holy Liturgy
DESCRIPTION:Liturgy starts @ 8:00am
URL:https://holycrosscoc.com/event-calendar/holy-liturgy-11/
ATTACH;FMTTYPE=image/jpeg:https://holycrosscoc.com/wp-content/uploads/2023/11/IMG_7762.jpg
END:VEVENT
BEGIN:VEVENT
DTSTART;TZID=America/Los_Angeles:20250531T080000
DTEND;TZID=America/Los_Angeles:20250531T170000
DTSTAMP:20260425T034616
CREATED:20250505T140214Z
LAST-MODIFIED:20250505T140214Z
UID:4017-1748678400-1748710800@holycrosscoc.com
SUMMARY:Coptic Classes and Vespers
DESCRIPTION:Coptic Class\, Hymns\, and Choir starts @ 5:00pm\nVesper starts @ 7:00pm\nPraises starts @8:00pm
URL:https://holycrosscoc.com/event-calendar/coptic-classes-and-vespers-4/
ATTACH;FMTTYPE=image/jpeg:https://holycrosscoc.com/wp-content/uploads/2025/02/cropped-church-picture.jpg
END:VEVENT
BEGIN:VEVENT
DTSTART;TZID=America/Los_Angeles:20250601T080000
DTEND;TZID=America/Los_Angeles:20250601T140000
DTSTAMP:20260425T034616
CREATED:20250528T131127Z
LAST-MODIFIED:20250528T131127Z
UID:4099-1748764800-1748786400@holycrosscoc.com
SUMMARY:Holy Liturgy
DESCRIPTION:Liturgy starts @ 8:00am\nSunday School starts @ 12:00pm
URL:https://holycrosscoc.com/event-calendar/holy-liturgy-5/
ATTACH;FMTTYPE=image/jpeg:https://holycrosscoc.com/wp-content/uploads/2023/11/IMG_7762.jpg
END:VEVENT
BEGIN:VEVENT
DTSTART;TZID=America/Los_Angeles:20250604T080000
DTEND;TZID=America/Los_Angeles:20250604T110000
DTSTAMP:20260425T034616
CREATED:20250603T134628Z
LAST-MODIFIED:20250603T134628Z
UID:4135-1749024000-1749034800@holycrosscoc.com
SUMMARY:Holy Liturgy
DESCRIPTION:Liturgy starts @ 8:00am
URL:https://holycrosscoc.com/event-calendar/holy-liturgy-16/
ATTACH;FMTTYPE=image/jpeg:https://holycrosscoc.com/wp-content/uploads/2023/11/IMG_7762.jpg
END:VEVENT
BEGIN:VEVENT
DTSTART;TZID=America/Los_Angeles:20250606T080000
DTEND;TZID=America/Los_Angeles:20250606T110000
DTSTAMP:20260425T034616
CREATED:20250603T134951Z
LAST-MODIFIED:20250603T134951Z
UID:4143-1749196800-1749207600@holycrosscoc.com
SUMMARY:Holy Liturgy
DESCRIPTION:Liturgy starts @ 8:00am
URL:https://holycrosscoc.com/event-calendar/holy-liturgy-20/
ATTACH;FMTTYPE=image/jpeg:https://holycrosscoc.com/wp-content/uploads/2023/11/IMG_7762.jpg
END:VEVENT
BEGIN:VEVENT
DTSTART;TZID=America/Los_Angeles:20250607T080000
DTEND;TZID=America/Los_Angeles:20250607T170000
DTSTAMP:20260425T034616
CREATED:20250603T134041Z
LAST-MODIFIED:20250603T134041Z
UID:4127-1749283200-1749315600@holycrosscoc.com
SUMMARY:Coptic Classes and Vespers
DESCRIPTION:Coptic Class\, Hymns\, and Choir starts @ 5:00pm\nVesper starts @ 7:00pm\nPraises starts @8:00pm
URL:https://holycrosscoc.com/event-calendar/coptic-classes-and-vespers-5/
ATTACH;FMTTYPE=image/jpeg:https://holycrosscoc.com/wp-content/uploads/2025/02/cropped-church-picture.jpg
END:VEVENT
BEGIN:VEVENT
DTSTART;TZID=America/Los_Angeles:20250608T080000
DTEND;TZID=America/Los_Angeles:20250608T140000
DTSTAMP:20260425T034616
CREATED:20250603T133749Z
LAST-MODIFIED:20250603T133831Z
UID:4117-1749369600-1749391200@holycrosscoc.com
SUMMARY:Holy Liturgy
DESCRIPTION:Liturgy starts @ 8:00am \nProstration Prayers @ 11:00am\nSunday School starts @ 12:00pm
URL:https://holycrosscoc.com/event-calendar/holy-liturgy-14/
ATTACH;FMTTYPE=image/jpeg:https://holycrosscoc.com/wp-content/uploads/2023/11/IMG_7762.jpg
END:VEVENT
BEGIN:VEVENT
DTSTART;TZID=America/Los_Angeles:20250611T080000
DTEND;TZID=America/Los_Angeles:20250611T110000
DTSTAMP:20260425T034616
CREATED:20250603T134705Z
LAST-MODIFIED:20250603T134705Z
UID:4137-1749628800-1749639600@holycrosscoc.com
SUMMARY:Holy Liturgy
DESCRIPTION:Liturgy starts @ 8:00am
URL:https://holycrosscoc.com/event-calendar/holy-liturgy-17/
ATTACH;FMTTYPE=image/jpeg:https://holycrosscoc.com/wp-content/uploads/2023/11/IMG_7762.jpg
END:VEVENT
BEGIN:VEVENT
DTSTART;TZID=America/Los_Angeles:20250613T080000
DTEND;TZID=America/Los_Angeles:20250613T110000
DTSTAMP:20260425T034616
CREATED:20250603T135028Z
LAST-MODIFIED:20250603T135028Z
UID:4145-1749801600-1749812400@holycrosscoc.com
SUMMARY:Holy Liturgy
DESCRIPTION:Liturgy starts @ 8:00am
URL:https://holycrosscoc.com/event-calendar/holy-liturgy-21/
ATTACH;FMTTYPE=image/jpeg:https://holycrosscoc.com/wp-content/uploads/2023/11/IMG_7762.jpg
END:VEVENT
BEGIN:VEVENT
DTSTART;TZID=America/Los_Angeles:20250614T080000
DTEND;TZID=America/Los_Angeles:20250614T170000
DTSTAMP:20260425T034616
CREATED:20250603T134126Z
LAST-MODIFIED:20250603T134126Z
UID:4129-1749888000-1749920400@holycrosscoc.com
SUMMARY:Coptic Classes and Vespers
DESCRIPTION:Coptic Class\, Hymns\, and Choir starts @ 5:00pm\nVesper starts @ 7:00pm\nPraises starts @8:00pm
URL:https://holycrosscoc.com/event-calendar/coptic-classes-and-vespers-6/
ATTACH;FMTTYPE=image/jpeg:https://holycrosscoc.com/wp-content/uploads/2025/02/cropped-church-picture.jpg
END:VEVENT
BEGIN:VEVENT
DTSTART;TZID=America/Los_Angeles:20250615T080000
DTEND;TZID=America/Los_Angeles:20250615T140000
DTSTAMP:20260425T034616
CREATED:20250528T131220Z
LAST-MODIFIED:20250603T133858Z
UID:4101-1749974400-1749996000@holycrosscoc.com
SUMMARY:Holy Liturgy
DESCRIPTION:Liturgy starts @ 8:00am \nSunday School starts @ 12:00pm
URL:https://holycrosscoc.com/event-calendar/holy-liturgy-12/
ATTACH;FMTTYPE=image/jpeg:https://holycrosscoc.com/wp-content/uploads/2023/11/IMG_7762.jpg
END:VEVENT
BEGIN:VEVENT
DTSTART;TZID=America/Los_Angeles:20250620T080000
DTEND;TZID=America/Los_Angeles:20250620T110000
DTSTAMP:20260425T034616
CREATED:20250603T135129Z
LAST-MODIFIED:20250603T135129Z
UID:4147-1750406400-1750417200@holycrosscoc.com
SUMMARY:Holy Liturgy
DESCRIPTION:Liturgy starts @ 8:00am
URL:https://holycrosscoc.com/event-calendar/holy-liturgy-22/
ATTACH;FMTTYPE=image/jpeg:https://holycrosscoc.com/wp-content/uploads/2023/11/IMG_7762.jpg
END:VEVENT
BEGIN:VEVENT
DTSTART;TZID=America/Los_Angeles:20250621T080000
DTEND;TZID=America/Los_Angeles:20250621T170000
DTSTAMP:20260425T034616
CREATED:20250603T134212Z
LAST-MODIFIED:20250603T134212Z
UID:4131-1750492800-1750525200@holycrosscoc.com
SUMMARY:Coptic Classes and Vespers
DESCRIPTION:Coptic Class\, Hymns\, and Choir starts @ 5:00pm\nVesper starts @ 7:00pm\nPraises starts @8:00pm
URL:https://holycrosscoc.com/event-calendar/coptic-classes-and-vespers-7/
ATTACH;FMTTYPE=image/jpeg:https://holycrosscoc.com/wp-content/uploads/2025/02/cropped-church-picture.jpg
END:VEVENT
BEGIN:VEVENT
DTSTART;TZID=America/Los_Angeles:20250622T080000
DTEND;TZID=America/Los_Angeles:20250622T140000
DTSTAMP:20260425T034616
CREATED:20250603T133704Z
LAST-MODIFIED:20250603T133704Z
UID:4120-1750579200-1750600800@holycrosscoc.com
SUMMARY:Holy Liturgy
DESCRIPTION:Liturgy starts @ 8:00am \nProstration Prayers @11:00am\nSunday School starts @ 12:00pm
URL:https://holycrosscoc.com/event-calendar/holy-liturgy-13/
ATTACH;FMTTYPE=image/jpeg:https://holycrosscoc.com/wp-content/uploads/2023/11/IMG_7762.jpg
END:VEVENT
BEGIN:VEVENT
DTSTART;TZID=America/Los_Angeles:20250624T080000
DTEND;TZID=America/Los_Angeles:20250624T110000
DTSTAMP:20260425T034616
CREATED:20250603T134801Z
LAST-MODIFIED:20250623T205828Z
UID:4141-1750752000-1750762800@holycrosscoc.com
SUMMARY:Holy Liturgy
DESCRIPTION:Liturgy starts @ 8:00am
URL:https://holycrosscoc.com/event-calendar/holy-liturgy-19/
ATTACH;FMTTYPE=image/jpeg:https://holycrosscoc.com/wp-content/uploads/2023/11/IMG_7762.jpg
END:VEVENT
BEGIN:VEVENT
DTSTART;TZID=America/Los_Angeles:20250627T080000
DTEND;TZID=America/Los_Angeles:20250627T110000
DTSTAMP:20260425T034616
CREATED:20250603T135203Z
LAST-MODIFIED:20250603T135203Z
UID:4149-1751011200-1751022000@holycrosscoc.com
SUMMARY:Holy Liturgy
DESCRIPTION:Liturgy starts @ 8:00am
URL:https://holycrosscoc.com/event-calendar/holy-liturgy-23/
ATTACH;FMTTYPE=image/jpeg:https://holycrosscoc.com/wp-content/uploads/2023/11/IMG_7762.jpg
END:VEVENT
BEGIN:VEVENT
DTSTART;TZID=America/Los_Angeles:20250628T080000
DTEND;TZID=America/Los_Angeles:20250628T170000
DTSTAMP:20260425T034616
CREATED:20250603T134241Z
LAST-MODIFIED:20250603T134241Z
UID:4133-1751097600-1751130000@holycrosscoc.com
SUMMARY:Coptic Classes and Vespers
DESCRIPTION:Coptic Class\, Hymns\, and Choir starts @ 5:00pm\nVesper starts @ 7:00pm\nPraises starts @8:00pm
URL:https://holycrosscoc.com/event-calendar/coptic-classes-and-vespers-8/
ATTACH;FMTTYPE=image/jpeg:https://holycrosscoc.com/wp-content/uploads/2025/02/cropped-church-picture.jpg
END:VEVENT
BEGIN:VEVENT
DTSTART;TZID=America/Los_Angeles:20250629T080000
DTEND;TZID=America/Los_Angeles:20250629T140000
DTSTAMP:20260425T034616
CREATED:20250603T133949Z
LAST-MODIFIED:20250603T133949Z
UID:4125-1751184000-1751205600@holycrosscoc.com
SUMMARY:Holy Liturgy
DESCRIPTION:Liturgy starts @ 8:00am \nProstration Prayers @11:00am\nSunday School starts @ 12:00pm
URL:https://holycrosscoc.com/event-calendar/holy-liturgy-15/
ATTACH;FMTTYPE=image/jpeg:https://holycrosscoc.com/wp-content/uploads/2023/11/IMG_7762.jpg
END:VEVENT
BEGIN:VEVENT
DTSTART;TZID=America/Los_Angeles:20250702T080000
DTEND;TZID=America/Los_Angeles:20250702T110000
DTSTAMP:20260425T034616
CREATED:20250702T151917Z
LAST-MODIFIED:20250702T151917Z
UID:4176-1751443200-1751454000@holycrosscoc.com
SUMMARY:Holy Liturgy
DESCRIPTION:Liturgy starts @ 8:00am
URL:https://holycrosscoc.com/event-calendar/holy-liturgy-24/
ATTACH;FMTTYPE=image/jpeg:https://holycrosscoc.com/wp-content/uploads/2023/11/IMG_7762.jpg
END:VEVENT
BEGIN:VEVENT
DTSTART;TZID=America/Los_Angeles:20250704T080000
DTEND;TZID=America/Los_Angeles:20250704T110000
DTSTAMP:20260425T034616
CREATED:20250702T152043Z
LAST-MODIFIED:20250702T152043Z
UID:4178-1751616000-1751626800@holycrosscoc.com
SUMMARY:Holy Liturgy
DESCRIPTION:Liturgy starts @ 8:00am
URL:https://holycrosscoc.com/event-calendar/holy-liturgy-25/
ATTACH;FMTTYPE=image/jpeg:https://holycrosscoc.com/wp-content/uploads/2023/11/IMG_7762.jpg
END:VEVENT
BEGIN:VEVENT
DTSTART;TZID=America/Los_Angeles:20250705T080000
DTEND;TZID=America/Los_Angeles:20250705T170000
DTSTAMP:20260425T034616
CREATED:20250702T154431Z
LAST-MODIFIED:20250702T154431Z
UID:4191-1751702400-1751734800@holycrosscoc.com
SUMMARY:Coptic Classes and Vespers
DESCRIPTION:Coptic Class\, Hymns\, and Choir starts @ 5:00pm\nVesper starts @ 7:00pm\nPraises starts @8:00pm
URL:https://holycrosscoc.com/event-calendar/coptic-classes-and-vespers-9/
ATTACH;FMTTYPE=image/jpeg:https://holycrosscoc.com/wp-content/uploads/2025/02/cropped-church-picture.jpg
END:VEVENT
BEGIN:VEVENT
DTSTART;TZID=America/Los_Angeles:20250706T080000
DTEND;TZID=America/Los_Angeles:20250706T140000
DTSTAMP:20260425T034616
CREATED:20250702T154010Z
LAST-MODIFIED:20250702T154010Z
UID:4182-1751788800-1751810400@holycrosscoc.com
SUMMARY:Holy Liturgy
DESCRIPTION:Liturgy starts @ 8:00am \nProstration Prayers @11:00am\nSunday School starts @ 12:00pm
URL:https://holycrosscoc.com/event-calendar/holy-liturgy-27/
ATTACH;FMTTYPE=image/jpeg:https://holycrosscoc.com/wp-content/uploads/2023/11/IMG_7762.jpg
END:VEVENT
END:VCALENDAR