BEGIN:VCALENDAR
VERSION:2.0
PRODID:-//Holy Cross Coptic Orthodox Church - ECPv6.15.3//NONSGML v1.0//EN
CALSCALE:GREGORIAN
METHOD:PUBLISH
X-WR-CALNAME:Holy Cross Coptic Orthodox Church
X-ORIGINAL-URL:https://holycrosscoc.com
X-WR-CALDESC:Events for Holy Cross Coptic Orthodox Church
REFRESH-INTERVAL;VALUE=DURATION:PT1H
X-Robots-Tag:noindex
X-PUBLISHED-TTL:PT1H
BEGIN:VTIMEZONE
TZID:America/Los_Angeles
BEGIN:DAYLIGHT
TZOFFSETFROM:-0800
TZOFFSETTO:-0700
TZNAME:PDT
DTSTART:20250309T100000
END:DAYLIGHT
BEGIN:STANDARD
TZOFFSETFROM:-0700
TZOFFSETTO:-0800
TZNAME:PST
DTSTART:20251102T090000
END:STANDARD
BEGIN:DAYLIGHT
TZOFFSETFROM:-0800
TZOFFSETTO:-0700
TZNAME:PDT
DTSTART:20260308T100000
END:DAYLIGHT
BEGIN:STANDARD
TZOFFSETFROM:-0700
TZOFFSETTO:-0800
TZNAME:PST
DTSTART:20261101T090000
END:STANDARD
END:VTIMEZONE
BEGIN:VEVENT
DTSTART;TZID=America/Los_Angeles:20250716T080000
DTEND;TZID=America/Los_Angeles:20250716T110000
DTSTAMP:20260425T034304
CREATED:20250702T154736Z
LAST-MODIFIED:20250702T154736Z
UID:4200-1752652800-1752663600@holycrosscoc.com
SUMMARY:Holy Liturgy
DESCRIPTION:Liturgy starts @ 8:00am
URL:https://holycrosscoc.com/event-calendar/holy-liturgy-31/
ATTACH;FMTTYPE=image/jpeg:https://holycrosscoc.com/wp-content/uploads/2023/11/IMG_7762.jpg
END:VEVENT
BEGIN:VEVENT
DTSTART;TZID=America/Los_Angeles:20250718T080000
DTEND;TZID=America/Los_Angeles:20250718T110000
DTSTAMP:20260425T034304
CREATED:20250702T155044Z
LAST-MODIFIED:20250702T155044Z
UID:4206-1752825600-1752836400@holycrosscoc.com
SUMMARY:Holy Liturgy
DESCRIPTION:Liturgy starts @ 8:00am
URL:https://holycrosscoc.com/event-calendar/holy-liturgy-34/
ATTACH;FMTTYPE=image/jpeg:https://holycrosscoc.com/wp-content/uploads/2023/11/IMG_7762.jpg
END:VEVENT
BEGIN:VEVENT
DTSTART;TZID=America/Los_Angeles:20250719T080000
DTEND;TZID=America/Los_Angeles:20250719T170000
DTSTAMP:20260425T034304
CREATED:20250702T154541Z
LAST-MODIFIED:20250702T154541Z
UID:4196-1752912000-1752944400@holycrosscoc.com
SUMMARY:Coptic Classes and Vespers
DESCRIPTION:Coptic Class\, Hymns\, and Choir starts @ 5:00pm\nVesper starts @ 7:00pm\nPraises starts @8:00pm
URL:https://holycrosscoc.com/event-calendar/coptic-classes-and-vespers-11/
ATTACH;FMTTYPE=image/jpeg:https://holycrosscoc.com/wp-content/uploads/2025/02/cropped-church-picture.jpg
END:VEVENT
BEGIN:VEVENT
DTSTART;TZID=America/Los_Angeles:20250720T080000
DTEND;TZID=America/Los_Angeles:20250720T140000
DTSTAMP:20260425T034304
CREATED:20250702T154145Z
LAST-MODIFIED:20250702T154145Z
UID:4187-1752998400-1753020000@holycrosscoc.com
SUMMARY:Holy Liturgy
DESCRIPTION:Liturgy starts @ 8:00am \nProstration Prayers @11:00am\nSunday School starts @ 12:00pm
URL:https://holycrosscoc.com/event-calendar/holy-liturgy-29/
ATTACH;FMTTYPE=image/jpeg:https://holycrosscoc.com/wp-content/uploads/2023/11/IMG_7762.jpg
END:VEVENT
BEGIN:VEVENT
DTSTART;TZID=America/Los_Angeles:20250723T080000
DTEND;TZID=America/Los_Angeles:20250723T110000
DTSTAMP:20260425T034304
CREATED:20250702T154830Z
LAST-MODIFIED:20250702T154830Z
UID:4202-1753257600-1753268400@holycrosscoc.com
SUMMARY:Holy Liturgy
DESCRIPTION:Liturgy starts @ 8:00am
URL:https://holycrosscoc.com/event-calendar/holy-liturgy-32/
ATTACH;FMTTYPE=image/jpeg:https://holycrosscoc.com/wp-content/uploads/2023/11/IMG_7762.jpg
END:VEVENT
BEGIN:VEVENT
DTSTART;TZID=America/Los_Angeles:20250725T080000
DTEND;TZID=America/Los_Angeles:20250725T110000
DTSTAMP:20260425T034304
CREATED:20250702T155119Z
LAST-MODIFIED:20250702T155119Z
UID:4208-1753430400-1753441200@holycrosscoc.com
SUMMARY:Holy Liturgy
DESCRIPTION:Liturgy starts @ 8:00am
URL:https://holycrosscoc.com/event-calendar/holy-liturgy-35/
ATTACH;FMTTYPE=image/jpeg:https://holycrosscoc.com/wp-content/uploads/2023/11/IMG_7762.jpg
END:VEVENT
BEGIN:VEVENT
DTSTART;TZID=America/Los_Angeles:20250726T080000
DTEND;TZID=America/Los_Angeles:20250726T170000
DTSTAMP:20260425T034304
CREATED:20250702T154617Z
LAST-MODIFIED:20250702T154617Z
UID:4198-1753516800-1753549200@holycrosscoc.com
SUMMARY:Coptic Classes and Vespers
DESCRIPTION:Coptic Class\, Hymns\, and Choir starts @ 5:00pm\nVesper starts @ 7:00pm\nPraises starts @8:00pm
URL:https://holycrosscoc.com/event-calendar/coptic-classes-and-vespers-12/
ATTACH;FMTTYPE=image/jpeg:https://holycrosscoc.com/wp-content/uploads/2025/02/cropped-church-picture.jpg
END:VEVENT
BEGIN:VEVENT
DTSTART;TZID=America/Los_Angeles:20250727T080000
DTEND;TZID=America/Los_Angeles:20250727T140000
DTSTAMP:20260425T034304
CREATED:20250702T154218Z
LAST-MODIFIED:20250702T154218Z
UID:4189-1753603200-1753624800@holycrosscoc.com
SUMMARY:Holy Liturgy
DESCRIPTION:Liturgy starts @ 8:00am \nProstration Prayers @11:00am\nSunday School starts @ 12:00pm
URL:https://holycrosscoc.com/event-calendar/holy-liturgy-30/
ATTACH;FMTTYPE=image/jpeg:https://holycrosscoc.com/wp-content/uploads/2023/11/IMG_7762.jpg
END:VEVENT
BEGIN:VEVENT
DTSTART;TZID=America/Los_Angeles:20250730T080000
DTEND;TZID=America/Los_Angeles:20250730T110000
DTSTAMP:20260425T034304
CREATED:20250702T154905Z
LAST-MODIFIED:20250702T154939Z
UID:4204-1753862400-1753873200@holycrosscoc.com
SUMMARY:Holy Liturgy
DESCRIPTION:Liturgy starts @ 8:00am
URL:https://holycrosscoc.com/event-calendar/holy-liturgy-33/
ATTACH;FMTTYPE=image/jpeg:https://holycrosscoc.com/wp-content/uploads/2023/11/IMG_7762.jpg
END:VEVENT
BEGIN:VEVENT
DTSTART;TZID=America/Los_Angeles:20250802T080000
DTEND;TZID=America/Los_Angeles:20250802T170000
DTSTAMP:20260425T034304
CREATED:20250820T194901Z
LAST-MODIFIED:20250820T194901Z
UID:4283-1754121600-1754154000@holycrosscoc.com
SUMMARY:Coptic Classes and Vespers
DESCRIPTION:Coptic Class\, Hymns\, and Choir starts @ 5:00pm\nVesper starts @ 7:00pm\nPraises starts @8:00pm
URL:https://holycrosscoc.com/event-calendar/coptic-classes-and-vespers-13/
ATTACH;FMTTYPE=image/jpeg:https://holycrosscoc.com/wp-content/uploads/2025/02/cropped-church-picture.jpg
END:VEVENT
BEGIN:VEVENT
DTSTART;TZID=America/Los_Angeles:20250803T080000
DTEND;TZID=America/Los_Angeles:20250803T140000
DTSTAMP:20260425T034304
CREATED:20250820T194331Z
LAST-MODIFIED:20250820T194331Z
UID:4273-1754208000-1754229600@holycrosscoc.com
SUMMARY:Holy Liturgy
DESCRIPTION:Liturgy starts @ 8:00am \nProstration Prayers @11:00am\nSunday School starts @ 12:00pm
URL:https://holycrosscoc.com/event-calendar/holy-liturgy-36/
ATTACH;FMTTYPE=image/jpeg:https://holycrosscoc.com/wp-content/uploads/2023/11/IMG_7762.jpg
END:VEVENT
BEGIN:VEVENT
DTSTART;TZID=America/Los_Angeles:20250810T080000
DTEND;TZID=America/Los_Angeles:20250810T140000
DTSTAMP:20260425T034304
CREATED:20250820T194422Z
LAST-MODIFIED:20250820T194422Z
UID:4275-1754812800-1754834400@holycrosscoc.com
SUMMARY:Holy Liturgy
DESCRIPTION:Liturgy starts @ 8:00am \nProstration Prayers @11:00am\nSunday School starts @ 12:00pm
URL:https://holycrosscoc.com/event-calendar/holy-liturgy-37/
ATTACH;FMTTYPE=image/jpeg:https://holycrosscoc.com/wp-content/uploads/2023/11/IMG_7762.jpg
END:VEVENT
BEGIN:VEVENT
DTSTART;TZID=America/Los_Angeles:20250817T080000
DTEND;TZID=America/Los_Angeles:20250817T140000
DTSTAMP:20260425T034304
CREATED:20250820T194459Z
LAST-MODIFIED:20250820T194459Z
UID:4277-1755417600-1755439200@holycrosscoc.com
SUMMARY:Holy Liturgy
DESCRIPTION:Liturgy starts @ 8:00am \nProstration Prayers @11:00am\nSunday School starts @ 12:00pm
URL:https://holycrosscoc.com/event-calendar/holy-liturgy-38/
ATTACH;FMTTYPE=image/jpeg:https://holycrosscoc.com/wp-content/uploads/2023/11/IMG_7762.jpg
END:VEVENT
BEGIN:VEVENT
DTSTART;TZID=America/Los_Angeles:20250819T080000
DTEND;TZID=America/Los_Angeles:20250819T140000
DTSTAMP:20260425T034304
CREATED:20250820T195420Z
LAST-MODIFIED:20250820T195420Z
UID:4289-1755590400-1755612000@holycrosscoc.com
SUMMARY:Holy Liturgy
DESCRIPTION:Feast of Transfiguration \nLiturgy starts @ 8:00am \n 
URL:https://holycrosscoc.com/event-calendar/holy-liturgy-41/
ATTACH;FMTTYPE=image/jpeg:https://holycrosscoc.com/wp-content/uploads/2023/11/IMG_7762.jpg
END:VEVENT
BEGIN:VEVENT
DTSTART;TZID=America/Los_Angeles:20250822T080000
DTEND;TZID=America/Los_Angeles:20250822T140000
DTSTAMP:20260425T034304
CREATED:20250820T195533Z
LAST-MODIFIED:20250820T195533Z
UID:4291-1755849600-1755871200@holycrosscoc.com
SUMMARY:Holy Liturgy
DESCRIPTION:Feast of Assumption of the body of St. Mary \nLiturgy starts @ 8:00am \n 
URL:https://holycrosscoc.com/event-calendar/holy-liturgy-42/
ATTACH;FMTTYPE=image/jpeg:https://holycrosscoc.com/wp-content/uploads/2023/11/IMG_7762.jpg
END:VEVENT
BEGIN:VEVENT
DTSTART;TZID=America/Los_Angeles:20250823T080000
DTEND;TZID=America/Los_Angeles:20250823T170000
DTSTAMP:20260425T034304
CREATED:20250820T194950Z
LAST-MODIFIED:20250820T194950Z
UID:4285-1755936000-1755968400@holycrosscoc.com
SUMMARY:Coptic Classes and Vespers
DESCRIPTION:Coptic Class\, Hymns\, and Choir starts @ 5:00pm\nVesper starts @ 7:00pm\nPraises starts @8:00pm
URL:https://holycrosscoc.com/event-calendar/coptic-classes-and-vespers-14/
ATTACH;FMTTYPE=image/jpeg:https://holycrosscoc.com/wp-content/uploads/2025/02/cropped-church-picture.jpg
END:VEVENT
BEGIN:VEVENT
DTSTART;TZID=America/Los_Angeles:20250824T080000
DTEND;TZID=America/Los_Angeles:20250824T140000
DTSTAMP:20260425T034304
CREATED:20250820T194549Z
LAST-MODIFIED:20250820T194549Z
UID:4279-1756022400-1756044000@holycrosscoc.com
SUMMARY:Holy Liturgy
DESCRIPTION:Liturgy starts @ 8:00am \nProstration Prayers @11:00am\nSunday School starts @ 12:00pm
URL:https://holycrosscoc.com/event-calendar/holy-liturgy-39/
ATTACH;FMTTYPE=image/jpeg:https://holycrosscoc.com/wp-content/uploads/2023/11/IMG_7762.jpg
END:VEVENT
BEGIN:VEVENT
DTSTART;TZID=America/Los_Angeles:20250830T080000
DTEND;TZID=America/Los_Angeles:20250830T170000
DTSTAMP:20260425T034304
CREATED:20250820T195032Z
LAST-MODIFIED:20250820T195032Z
UID:4287-1756540800-1756573200@holycrosscoc.com
SUMMARY:Coptic Classes and Vespers
DESCRIPTION:Coptic Class\, Hymns\, and Choir starts @ 5:00pm\nVesper starts @ 7:00pm\nPraises starts @8:00pm
URL:https://holycrosscoc.com/event-calendar/coptic-classes-and-vespers-15/
ATTACH;FMTTYPE=image/jpeg:https://holycrosscoc.com/wp-content/uploads/2025/02/cropped-church-picture.jpg
END:VEVENT
BEGIN:VEVENT
DTSTART;TZID=America/Los_Angeles:20250831T080000
DTEND;TZID=America/Los_Angeles:20250831T140000
DTSTAMP:20260425T034304
CREATED:20250820T194725Z
LAST-MODIFIED:20250820T194725Z
UID:4281-1756627200-1756648800@holycrosscoc.com
SUMMARY:Holy Liturgy
DESCRIPTION:Liturgy starts @ 8:00am \nProstration Prayers @11:00am\nSunday School starts @ 12:00pm
URL:https://holycrosscoc.com/event-calendar/holy-liturgy-40/
ATTACH;FMTTYPE=image/jpeg:https://holycrosscoc.com/wp-content/uploads/2023/11/IMG_7762.jpg
END:VEVENT
BEGIN:VEVENT
DTSTART;TZID=America/Los_Angeles:20250926T080000
DTEND;TZID=America/Los_Angeles:20250926T140000
DTSTAMP:20260425T034304
CREATED:20250930T195522Z
LAST-MODIFIED:20250930T195522Z
UID:4337-1758873600-1758895200@holycrosscoc.com
SUMMARY:Holy Liturgy
DESCRIPTION:Liturgy starts @ 8:00am \nProstration Prayers @11:00am\nSunday School starts @ 12:00pm
URL:https://holycrosscoc.com/event-calendar/holy-liturgy-43/
ATTACH;FMTTYPE=image/jpeg:https://holycrosscoc.com/wp-content/uploads/2023/11/IMG_7762.jpg
END:VEVENT
BEGIN:VEVENT
DTSTART;TZID=America/Los_Angeles:20251004T080000
DTEND;TZID=America/Los_Angeles:20251004T170000
DTSTAMP:20260425T034304
CREATED:20250930T195925Z
LAST-MODIFIED:20250930T195925Z
UID:4341-1759564800-1759597200@holycrosscoc.com
SUMMARY:Coptic Classes and Vespers
DESCRIPTION:Baptism @ 8:00am\nLiturgy @ 9:00am\nCoptic Class\, Hymns\, and Choir starts @ 5:00pm\nVesper starts @ 7:00pm\nPraises starts @8:00pm
URL:https://holycrosscoc.com/event-calendar/coptic-classes-and-vespers-16/
ATTACH;FMTTYPE=image/jpeg:https://holycrosscoc.com/wp-content/uploads/2025/02/cropped-church-picture.jpg
END:VEVENT
BEGIN:VEVENT
DTSTART;TZID=America/Los_Angeles:20251005T080000
DTEND;TZID=America/Los_Angeles:20251005T140000
DTSTAMP:20260425T034304
CREATED:20250930T200128Z
LAST-MODIFIED:20250930T200201Z
UID:4343-1759651200-1759672800@holycrosscoc.com
SUMMARY:Holy Liturgy
DESCRIPTION:Liturgy starts @ 8:00am \nProstration Prayers @11:00am
URL:https://holycrosscoc.com/event-calendar/holy-liturgy-45/
ATTACH;FMTTYPE=image/jpeg:https://holycrosscoc.com/wp-content/uploads/2023/11/IMG_7762.jpg
END:VEVENT
BEGIN:VEVENT
DTSTART;TZID=America/Los_Angeles:20260202T080000
DTEND;TZID=America/Los_Angeles:20260202T140000
DTSTAMP:20260425T034304
CREATED:20260202T152845Z
LAST-MODIFIED:20260202T152949Z
UID:4459-1770019200-1770040800@holycrosscoc.com
SUMMARY:Holy Liturgy
DESCRIPTION:Liturgy starts @ 10:00am -1:00pm
URL:https://holycrosscoc.com/event-calendar/holy-liturgy-46/
ATTACH;FMTTYPE=image/jpeg:https://holycrosscoc.com/wp-content/uploads/2026/02/Jonah.jpg
END:VEVENT
BEGIN:VEVENT
DTSTART;TZID=America/Los_Angeles:20260203T080000
DTEND;TZID=America/Los_Angeles:20260203T140000
DTSTAMP:20260425T034304
CREATED:20260202T153034Z
LAST-MODIFIED:20260202T153034Z
UID:4461-1770105600-1770127200@holycrosscoc.com
SUMMARY:Holy Liturgy
DESCRIPTION:Liturgy starts @ 12:00pm -3:00pm
URL:https://holycrosscoc.com/event-calendar/holy-liturgy-47/
ATTACH;FMTTYPE=image/jpeg:https://holycrosscoc.com/wp-content/uploads/2026/02/Jonah.jpg
END:VEVENT
BEGIN:VEVENT
DTSTART;TZID=America/Los_Angeles:20260204T080000
DTEND;TZID=America/Los_Angeles:20260204T140000
DTSTAMP:20260425T034304
CREATED:20260202T153130Z
LAST-MODIFIED:20260202T153130Z
UID:4463-1770192000-1770213600@holycrosscoc.com
SUMMARY:Holy Liturgy
DESCRIPTION:Liturgy starts @ 3:00pm -6:00pm
URL:https://holycrosscoc.com/event-calendar/holy-liturgy-48/
ATTACH;FMTTYPE=image/jpeg:https://holycrosscoc.com/wp-content/uploads/2026/02/Jonah.jpg
END:VEVENT
BEGIN:VEVENT
DTSTART;TZID=America/Los_Angeles:20260205T080000
DTEND;TZID=America/Los_Angeles:20260205T140000
DTSTAMP:20260425T034304
CREATED:20260202T153227Z
LAST-MODIFIED:20260202T153227Z
UID:4465-1770278400-1770300000@holycrosscoc.com
SUMMARY:Holy Liturgy
DESCRIPTION:Liturgy starts @ 8:00am – 10:00am\nJonah’s Feast
URL:https://holycrosscoc.com/event-calendar/holy-liturgy-49/
ATTACH;FMTTYPE=image/jpeg:https://holycrosscoc.com/wp-content/uploads/2026/02/Jonah.jpg
END:VEVENT
BEGIN:VEVENT
DTSTART;TZID=America/Los_Angeles:20260213T080000
DTEND;TZID=America/Los_Angeles:20260213T100000
DTSTAMP:20260425T034304
CREATED:20250930T195748Z
LAST-MODIFIED:20260211T181024Z
UID:4339-1770969600-1770976800@holycrosscoc.com
SUMMARY:Holy Liturgy
DESCRIPTION:Liturgy starts @ 8:00am
URL:https://holycrosscoc.com/event-calendar/holy-liturgy-44/
ATTACH;FMTTYPE=image/jpeg:https://holycrosscoc.com/wp-content/uploads/2023/11/IMG_7762.jpg
END:VEVENT
BEGIN:VEVENT
DTSTART;TZID=America/Los_Angeles:20260215T080000
DTEND;TZID=America/Los_Angeles:20260215T100000
DTSTAMP:20260425T034304
CREATED:20260211T181147Z
LAST-MODIFIED:20260211T181147Z
UID:4477-1771142400-1771149600@holycrosscoc.com
SUMMARY:Holy Liturgy
DESCRIPTION:Liturgy starts @ 8:00am
URL:https://holycrosscoc.com/event-calendar/holy-liturgy-50/
ATTACH;FMTTYPE=image/jpeg:https://holycrosscoc.com/wp-content/uploads/2023/11/IMG_7762.jpg
END:VEVENT
BEGIN:VEVENT
DTSTART;TZID=America/Los_Angeles:20260319T080000
DTEND;TZID=America/Los_Angeles:20260319T100000
DTSTAMP:20260425T034304
CREATED:20260317T145540Z
LAST-MODIFIED:20260317T145540Z
UID:4513-1773907200-1773914400@holycrosscoc.com
SUMMARY:Holy Liturgy
DESCRIPTION:Liturgy starts @ 8:00am
URL:https://holycrosscoc.com/event-calendar/holy-liturgy-51/
ATTACH;FMTTYPE=image/jpeg:https://holycrosscoc.com/wp-content/uploads/2023/11/IMG_7762.jpg
END:VEVENT
BEGIN:VEVENT
DTSTART;TZID=America/Los_Angeles:20260327T080000
DTEND;TZID=America/Los_Angeles:20260327T100000
DTSTAMP:20260425T034304
CREATED:20260317T145639Z
LAST-MODIFIED:20260317T145639Z
UID:4515-1774598400-1774605600@holycrosscoc.com
SUMMARY:Holy Liturgy
DESCRIPTION:Liturgy starts @ 12:00am
URL:https://holycrosscoc.com/event-calendar/holy-liturgy-52/
ATTACH;FMTTYPE=image/jpeg:https://holycrosscoc.com/wp-content/uploads/2023/11/IMG_7762.jpg
END:VEVENT
END:VCALENDAR