BEGIN:VCALENDAR
VERSION:2.0
PRODID:-//Holy Cross Coptic Orthodox Church - ECPv6.15.3//NONSGML v1.0//EN
CALSCALE:GREGORIAN
METHOD:PUBLISH
X-WR-CALNAME:Holy Cross Coptic Orthodox Church
X-ORIGINAL-URL:https://holycrosscoc.com
X-WR-CALDESC:Events for Holy Cross Coptic Orthodox Church
REFRESH-INTERVAL;VALUE=DURATION:PT1H
X-Robots-Tag:noindex
X-PUBLISHED-TTL:PT1H
BEGIN:VTIMEZONE
TZID:America/Los_Angeles
BEGIN:DAYLIGHT
TZOFFSETFROM:-0800
TZOFFSETTO:-0700
TZNAME:PDT
DTSTART:20250309T100000
END:DAYLIGHT
BEGIN:STANDARD
TZOFFSETFROM:-0700
TZOFFSETTO:-0800
TZNAME:PST
DTSTART:20251102T090000
END:STANDARD
END:VTIMEZONE
BEGIN:VEVENT
DTSTART;TZID=America/Los_Angeles:20250510T080000
DTEND;TZID=America/Los_Angeles:20250510T170000
DTSTAMP:20260425T051431
CREATED:20250505T140025Z
LAST-MODIFIED:20250505T140031Z
UID:4011-1746864000-1746896400@holycrosscoc.com
SUMMARY:Coptic Classes and Vespers
DESCRIPTION:Coptic Class\, Hymns\, and Choir starts @ 5:00pm\nVesper starts @ 7:00pm\nPraises starts @8:00pm
URL:https://holycrosscoc.com/event-calendar/coptic-classes-and-vespers/
ATTACH;FMTTYPE=image/jpeg:https://holycrosscoc.com/wp-content/uploads/2025/02/cropped-church-picture.jpg
END:VEVENT
BEGIN:VEVENT
DTSTART;TZID=America/Los_Angeles:20250509T080000
DTEND;TZID=America/Los_Angeles:20250509T110000
DTSTAMP:20260425T051431
CREATED:20250505T140916Z
LAST-MODIFIED:20250505T140916Z
UID:4028-1746777600-1746788400@holycrosscoc.com
SUMMARY:Holy Liturgy
DESCRIPTION:Liturgy starts @ 8:00am
URL:https://holycrosscoc.com/event-calendar/holy-liturgy-8/
ATTACH;FMTTYPE=image/jpeg:https://holycrosscoc.com/wp-content/uploads/2023/11/IMG_7762.jpg
END:VEVENT
BEGIN:VEVENT
DTSTART;TZID=America/Los_Angeles:20250508T080000
DTEND;TZID=America/Los_Angeles:20250508T103000
DTSTAMP:20260425T051431
CREATED:20250507T155948Z
LAST-MODIFIED:20250507T155952Z
UID:4040-1746691200-1746700200@holycrosscoc.com
SUMMARY:Liturgy @8:00
DESCRIPTION:St. Mark’s martyrdom
URL:https://holycrosscoc.com/event-calendar/liturgy-800/
ATTACH;FMTTYPE=image/jpeg:https://holycrosscoc.com/wp-content/uploads/2023/11/IMG_7762.jpg
END:VEVENT
BEGIN:VEVENT
DTSTART;TZID=America/Los_Angeles:20250507T080000
DTEND;TZID=America/Los_Angeles:20250507T110000
DTSTAMP:20260425T051431
CREATED:20250505T140500Z
LAST-MODIFIED:20250505T140500Z
UID:4020-1746604800-1746615600@holycrosscoc.com
SUMMARY:Holy Liturgy
DESCRIPTION:Liturgy starts @ 8:00am
URL:https://holycrosscoc.com/event-calendar/holy-liturgy-4/
ATTACH;FMTTYPE=image/jpeg:https://holycrosscoc.com/wp-content/uploads/2023/11/IMG_7762.jpg
END:VEVENT
BEGIN:VEVENT
DTSTART;TZID=America/Los_Angeles:20250504T080000
DTEND;TZID=America/Los_Angeles:20250504T170000
DTSTAMP:20260425T051431
CREATED:20250505T135152Z
LAST-MODIFIED:20250505T135158Z
UID:4003-1746345600-1746378000@holycrosscoc.com
SUMMARY:Liturgy
DESCRIPTION:Liturgy starts at 8:00am\nSunday School starts at 12:00pm
URL:https://holycrosscoc.com/event-calendar/liturgy-2/
ATTACH;FMTTYPE=image/jpeg:https://holycrosscoc.com/wp-content/uploads/2023/11/IMG_7762.jpg
END:VEVENT
BEGIN:VEVENT
DTSTART;TZID=America/Los_Angeles:20250426T170000
DTEND;TZID=America/Los_Angeles:20250426T210000
DTSTAMP:20260425T051431
CREATED:20250327T200426Z
LAST-MODIFIED:20250327T200448Z
UID:3824-1745686800-1745701200@holycrosscoc.com
SUMMARY:Coptic Classes & Vesper
DESCRIPTION:Coptic Class & Hymns  – 5:00 PM\nVespers  – 7:00 PM + Praises : 8 PM
URL:https://holycrosscoc.com/event-calendar/coptic-classes-vesper-3/
ATTACH;FMTTYPE=image/jpeg:https://holycrosscoc.com/wp-content/uploads/2025/02/church-picture.jpg
END:VEVENT
BEGIN:VEVENT
DTSTART;TZID=America/Los_Angeles:20250419T200000
DTEND;TZID=America/Los_Angeles:20250419T200000
DTSTAMP:20260425T051431
CREATED:20250402T215119Z
LAST-MODIFIED:20250402T215123Z
UID:3912-1745092800-1745092800@holycrosscoc.com
SUMMARY:Glorious Feast of the Resurrection
DESCRIPTION:Feast of the Resurrection Liturgy at 8:00pm – 1:00am
URL:https://holycrosscoc.com/event-calendar/glorious-feast-of-the-resurrection/
ATTACH;FMTTYPE=image/jpeg:https://holycrosscoc.com/wp-content/uploads/2024/05/resurrection-2-e1776277714384.jpg
END:VEVENT
BEGIN:VEVENT
DTSTART;TZID=America/Los_Angeles:20250418T080000
DTEND;TZID=America/Los_Angeles:20250418T180000
DTSTAMP:20260425T051431
CREATED:20250327T185006Z
LAST-MODIFIED:20250327T192043Z
UID:3795-1744963200-1744999200@holycrosscoc.com
SUMMARY:Good Friday
DESCRIPTION:April 18th – Good Friday prayers starts at 8:00am – 6:00pm\nAgape meal to follow\n\n 
URL:https://holycrosscoc.com/event-calendar/good-friday/
ATTACH;FMTTYPE=image/jpeg:https://holycrosscoc.com/wp-content/uploads/2019/07/Good-Friday.jpg
END:VEVENT
BEGIN:VEVENT
DTSTART;TZID=America/Los_Angeles:20250417T070000
DTEND;TZID=America/Los_Angeles:20250417T133000
DTSTAMP:20260425T051431
CREATED:20250402T214502Z
LAST-MODIFIED:20250402T214640Z
UID:3907-1744873200-1744896600@holycrosscoc.com
SUMMARY:Covenant Thursday (Last Supper)
DESCRIPTION:Last Supper (Covenant Thursday) Liturgy at 7:00am followed by the Pascha \nNight Pascha 5:00pm – 9:30pm
URL:https://holycrosscoc.com/event-calendar/con/
ATTACH;FMTTYPE=image/jpeg:https://holycrosscoc.com/wp-content/uploads/2025/04/Last-supper.jpg
END:VEVENT
BEGIN:VEVENT
DTSTART;TZID=America/Los_Angeles:20250416T090000
DTEND;TZID=America/Los_Angeles:20250416T123000
DTSTAMP:20260425T051431
CREATED:20250402T214014Z
LAST-MODIFIED:20250402T214014Z
UID:3905-1744794000-1744806600@holycrosscoc.com
SUMMARY:Wednesday of the Holy Pascha
DESCRIPTION:Morning Pascha 9:00am -12:30pm\nNight Pascha 6:00pm – 9:00pm
URL:https://holycrosscoc.com/event-calendar/wednesday-of-the-holy-pascha/
ATTACH;FMTTYPE=image/jpeg:https://holycrosscoc.com/wp-content/uploads/2025/04/artworks-NyezYiWpSf13fnzH-tYWFUQ-t500x500.jpg
END:VEVENT
BEGIN:VEVENT
DTSTART;TZID=America/Los_Angeles:20250415T090000
DTEND;TZID=America/Los_Angeles:20250415T123000
DTSTAMP:20260425T051431
CREATED:20250402T213851Z
LAST-MODIFIED:20250402T213851Z
UID:3903-1744707600-1744720200@holycrosscoc.com
SUMMARY:Tuesday of the Holy Pascha
DESCRIPTION:Morning Pascha 9:00am -12:30pm\nNight Pascha 6:00pm – 9:00pm
URL:https://holycrosscoc.com/event-calendar/tuesday-of-the-holy-pascha/
ATTACH;FMTTYPE=image/jpeg:https://holycrosscoc.com/wp-content/uploads/2025/04/artworks-NyezYiWpSf13fnzH-tYWFUQ-t500x500.jpg
END:VEVENT
BEGIN:VEVENT
DTSTART;TZID=America/Los_Angeles:20250414T090000
DTEND;TZID=America/Los_Angeles:20250414T123000
DTSTAMP:20260425T051431
CREATED:20250402T213640Z
LAST-MODIFIED:20250402T213640Z
UID:3896-1744621200-1744633800@holycrosscoc.com
SUMMARY:Monday of the Holy Pascha
DESCRIPTION:Morning Pascha 9:00am -12:30pm\nNight Pascha 6:00pm – 9:00pm
URL:https://holycrosscoc.com/event-calendar/monday-of-the-holy-pascha/
ATTACH;FMTTYPE=image/jpeg:https://holycrosscoc.com/wp-content/uploads/2025/04/artworks-NyezYiWpSf13fnzH-tYWFUQ-t500x500.jpg
END:VEVENT
BEGIN:VEVENT
DTSTART;TZID=America/Los_Angeles:20250413T080000
DTEND;TZID=America/Los_Angeles:20250413T123000
DTSTAMP:20260425T051431
CREATED:20250327T200743Z
LAST-MODIFIED:20250402T212716Z
UID:3820-1744531200-1744547400@holycrosscoc.com
SUMMARY:Palm Sunday
DESCRIPTION:Liturgy and the General Funeral:  7:00am -12:30pm\nHoly Pascha : 5:00pm -8:30pm
URL:https://holycrosscoc.com/event-calendar/palm-sunday/
ATTACH;FMTTYPE=image/webp:https://holycrosscoc.com/wp-content/uploads/2024/04/PalmSunday-.webp
END:VEVENT
BEGIN:VEVENT
DTSTART;VALUE=DATE:20250412
DTEND;VALUE=DATE:20250413
DTSTAMP:20260425T051431
CREATED:20250327T183654Z
LAST-MODIFIED:20250410T210120Z
UID:3792-1744416000-1744502399@holycrosscoc.com
SUMMARY:April 12th -Lazarus Saturday
DESCRIPTION:8:00 – Liturgy – HG Anba Kyrillos\n11:00am – Breakfast\n11:30am – Holy Week Morning Activities\n  Puppet Show: Preschool\, KG & 1st grade\n  Holy Week Journey: 2nd grade – JH\n1:30 PM – Jesus entry to Jerusalem Procession\n2:30 – Lunch\n3:00 -5:00pm Crafts & activities children\n3:00 -5:00pm – Palm weaving & church decoration (Adults)\nPalm Sunday Vesper starts at 5:00pm PT
URL:https://holycrosscoc.com/event-calendar/april-12th-lazarus-saturday/
ATTACH;FMTTYPE=image/webp:https://holycrosscoc.com/wp-content/uploads/2024/04/PalmSunday-.webp
END:VEVENT
BEGIN:VEVENT
DTSTART;TZID=America/Los_Angeles:20250411T080000
DTEND;TZID=America/Los_Angeles:20250411T120000
DTSTAMP:20260425T051431
CREATED:20250402T211514Z
LAST-MODIFIED:20250407T142023Z
UID:3889-1744358400-1744372800@holycrosscoc.com
SUMMARY:Friday Liturgy
DESCRIPTION:Liturgy starts at 8am – 12:00pm PT
URL:https://holycrosscoc.com/event-calendar/friday-liturgy-2/
ATTACH;FMTTYPE=image/jpeg:https://holycrosscoc.com/wp-content/uploads/2023/11/IMG_7762.jpg
END:VEVENT
BEGIN:VEVENT
DTSTART;TZID=America/Los_Angeles:20250409T150000
DTEND;TZID=America/Los_Angeles:20250409T180000
DTSTAMP:20260425T051431
CREATED:20250402T205547Z
LAST-MODIFIED:20250402T210240Z
UID:3882-1744210800-1744221600@holycrosscoc.com
SUMMARY:Wednesday Liturgy
DESCRIPTION:During Lent\, Wednesday Liturgy starts at \n3:00pm-6:00pm
URL:https://holycrosscoc.com/event-calendar/liturgy/
ATTACH;FMTTYPE=image/jpeg:https://holycrosscoc.com/wp-content/uploads/2023/11/IMG_7762.jpg
END:VEVENT
BEGIN:VEVENT
DTSTART;TZID=America/Los_Angeles:20250406T080000
DTEND;TZID=America/Los_Angeles:20250406T120000
DTSTAMP:20260425T051431
CREATED:20250327T183104Z
LAST-MODIFIED:20250402T210652Z
UID:3790-1743926400-1743940800@holycrosscoc.com
SUMMARY:Healing of the Blind man
DESCRIPTION:Liturgy starts at 8:00 -11:00am PT every Sunday\nFollowed by Sunday School 11:00am -12:00pm
URL:https://holycrosscoc.com/event-calendar/sunday-liturgy-starts-at-800am/
ATTACH;FMTTYPE=image/jpeg:https://holycrosscoc.com/wp-content/uploads/2025/04/miracles_christ_healing_the_born_blind_man.jpg
END:VEVENT
BEGIN:VEVENT
DTSTART;TZID=America/Los_Angeles:20250405T170000
DTEND;TZID=America/Los_Angeles:20250405T210000
DTSTAMP:20260425T051431
CREATED:20250327T194308Z
LAST-MODIFIED:20250402T205328Z
UID:3818-1743872400-1743886800@holycrosscoc.com
SUMMARY:Coptic Classes & Vesper
DESCRIPTION:Trip to St Anthony Monastery – Be at the church 5:45AM. Buss leaves at 6:00AM sharp.\nCoptic Class & Hymns  – 5:00 PM\nVespers  – 7:00 PM + Praises : 8 PM
URL:https://holycrosscoc.com/event-calendar/coptic-classes-vesper-2/
ATTACH;FMTTYPE=image/jpeg:https://holycrosscoc.com/wp-content/uploads/2025/02/church-picture.jpg
END:VEVENT
BEGIN:VEVENT
DTSTART;TZID=America/Los_Angeles:20250404T083000
DTEND;TZID=America/Los_Angeles:20250404T233000
DTSTAMP:20260425T051431
CREATED:20250402T211742Z
LAST-MODIFIED:20250404T131157Z
UID:3891-1743755400-1743809400@holycrosscoc.com
SUMMARY:Friday Liturgy
DESCRIPTION:Liturgy starts at 8:30am – 11:30pm PT
URL:https://holycrosscoc.com/event-calendar/friday-liturgy-3/
ATTACH;FMTTYPE=image/jpeg:https://holycrosscoc.com/wp-content/uploads/2023/11/IMG_7762.jpg
END:VEVENT
BEGIN:VEVENT
DTSTART;TZID=America/Los_Angeles:20250402T150000
DTEND;TZID=America/Los_Angeles:20250402T180000
DTSTAMP:20260425T051431
CREATED:20250327T192528Z
LAST-MODIFIED:20250402T205952Z
UID:3808-1743606000-1743616800@holycrosscoc.com
SUMMARY:Liturgy - 3:00pm-6:00pm
DESCRIPTION:During Lent\, Wednesday liturgy starts at 3:00pm – 6:00pm
URL:https://holycrosscoc.com/event-calendar/liturgy-300pm-600pm/
ATTACH;FMTTYPE=image/jpeg:https://holycrosscoc.com/wp-content/uploads/2023/11/IMG_7762.jpg
END:VEVENT
BEGIN:VEVENT
DTSTART;TZID=America/Los_Angeles:20250330T080000
DTEND;TZID=America/Los_Angeles:20250330T120000
DTSTAMP:20260425T051431
CREATED:20250327T193237Z
LAST-MODIFIED:20250327T193242Z
UID:3811-1743321600-1743336000@holycrosscoc.com
SUMMARY:Healing of the Paralytic Sunday
DESCRIPTION:Liturgy: 8:00AM\nSunday School : 12:00PM
URL:https://holycrosscoc.com/event-calendar/healing-of-the-paralytic-sunday/
ATTACH;FMTTYPE=image/webp:https://holycrosscoc.com/wp-content/uploads/2025/03/paralytic-man.webp
END:VEVENT
BEGIN:VEVENT
DTSTART;TZID=America/Los_Angeles:20250329T170000
DTEND;TZID=America/Los_Angeles:20250329T210000
DTSTAMP:20260425T051431
CREATED:20250327T193448Z
LAST-MODIFIED:20250327T193636Z
UID:3813-1743267600-1743282000@holycrosscoc.com
SUMMARY:Coptic Classes & Vesper
DESCRIPTION:Coptic Class & Hymns  – 5:00 PM\nVespers  – 7:00 PM + Praises : 8 PM
URL:https://holycrosscoc.com/event-calendar/coptic-classes-vesper/
ATTACH;FMTTYPE=image/jpeg:https://holycrosscoc.com/wp-content/uploads/2025/02/church-picture.jpg
END:VEVENT
BEGIN:VEVENT
DTSTART;TZID=America/Los_Angeles:20250328T080000
DTEND;TZID=America/Los_Angeles:20250328T170000
DTSTAMP:20260425T051431
CREATED:20250327T194036Z
LAST-MODIFIED:20250327T194042Z
UID:3815-1743148800-1743181200@holycrosscoc.com
SUMMARY:Friday Liturgy
DESCRIPTION:Liturgy starts at 10am – 12:30pm PT
URL:https://holycrosscoc.com/event-calendar/friday-liturgy/
ATTACH;FMTTYPE=image/jpeg:https://holycrosscoc.com/wp-content/uploads/2023/11/IMG_7762.jpg
END:VEVENT
END:VCALENDAR